BEGIN:VCALENDAR
VERSION:2.0
PRODID:-//Whiskey Business Band - ECPv6.15.20//NONSGML v1.0//EN
CALSCALE:GREGORIAN
METHOD:PUBLISH
X-ORIGINAL-URL:https://wbband.biz
X-WR-CALDESC:Events for Whiskey Business Band
REFRESH-INTERVAL;VALUE=DURATION:PT1H
X-Robots-Tag:noindex
X-PUBLISHED-TTL:PT1H
BEGIN:VTIMEZONE
TZID:UTC
BEGIN:STANDARD
TZOFFSETFROM:+0000
TZOFFSETTO:+0000
TZNAME:UTC
DTSTART:20250101T000000
END:STANDARD
END:VTIMEZONE
BEGIN:VEVENT
DTSTART;TZID=UTC:20260406T183000
DTEND;TZID=UTC:20260406T193000
DTSTAMP:20260420T064609
CREATED:20260322T184111Z
LAST-MODIFIED:20260322T190250Z
UID:432-1775500200-1775503800@wbband.biz
SUMMARY:Hopelands Gardens Concert Series
DESCRIPTION:
URL:https://wbband.biz/event/hopelands-gardens-concert-series/
LOCATION:Hopelands Gardens Amphitheater\, 135 Dupree Place\, AIKEN\, SC\, 29803\, United States
END:VEVENT
BEGIN:VEVENT
DTSTART;TZID=UTC:20260409T183000
DTEND;TZID=UTC:20260409T210000
DTSTAMP:20260420T064609
CREATED:20260322T232602Z
LAST-MODIFIED:20260322T232602Z
UID:438-1775759400-1775768400@wbband.biz
SUMMARY:Private Party
DESCRIPTION:
URL:https://wbband.biz/event/private-party/
LOCATION:Woodside Country Club\, 1000 Woodside Plantation Drive\, Aiken\, SC\, 29803\, United States
END:VEVENT
BEGIN:VEVENT
DTSTART;TZID=UTC:20260516T200000
DTEND;TZID=UTC:20260517T000000
DTSTAMP:20260420T064609
CREATED:20260322T233010Z
LAST-MODIFIED:20260322T233010Z
UID:441-1778961600-1778976000@wbband.biz
SUMMARY:Shannon's Place
DESCRIPTION:
URL:https://wbband.biz/event/shannons-place/
LOCATION:Shannon’s Place\, 300 Shartom Drive\, Augusta\, Georgia\, 30907
END:VEVENT
BEGIN:VEVENT
DTSTART;TZID=UTC:20260627T200000
DTEND;TZID=UTC:20260628T000000
DTSTAMP:20260420T064609
CREATED:20260322T233121Z
LAST-MODIFIED:20260322T233121Z
UID:444-1782590400-1782604800@wbband.biz
SUMMARY:Shannon's Place
DESCRIPTION:
URL:https://wbband.biz/event/shannons-place-2/
LOCATION:Shannon’s Place\, 300 Shartom Drive\, Augusta\, Georgia\, 30907
END:VEVENT
BEGIN:VEVENT
DTSTART;TZID=UTC:20260718T190000
DTEND;TZID=UTC:20260718T220000
DTSTAMP:20260420T064609
CREATED:20260322T233340Z
LAST-MODIFIED:20260322T233340Z
UID:446-1784401200-1784412000@wbband.biz
SUMMARY:Savage Craft
DESCRIPTION:
URL:https://wbband.biz/event/savage-craft/
LOCATION:Savage Craft\, 430 Center Street\, West Columbia\, SC\, 29169\, United States
END:VEVENT
BEGIN:VEVENT
DTSTART;TZID=UTC:20260815T180000
DTEND;TZID=UTC:20260815T210000
DTSTAMP:20260420T064609
CREATED:20260407T041503Z
LAST-MODIFIED:20260407T041533Z
UID:450-1786816800-1786827600@wbband.biz
SUMMARY:Good Girl Brewing Co.
DESCRIPTION:
URL:https://wbband.biz/event/good-girl-brewing-co/
LOCATION:Good Girl Brewing Company\, 880 Banks Mill Rd SE\, Aiken\, SC\, 29801\, United States
END:VEVENT
END:VCALENDAR