BEGIN:VCALENDAR
VERSION:2.0
PRODID:-//Whiskey Business Band - ECPv6.15.20//NONSGML v1.0//EN
CALSCALE:GREGORIAN
METHOD:PUBLISH
X-WR-CALNAME:Whiskey Business Band
X-ORIGINAL-URL:https://wbband.biz
X-WR-CALDESC:Events for Whiskey Business Band
REFRESH-INTERVAL;VALUE=DURATION:PT1H
X-Robots-Tag:noindex
X-PUBLISHED-TTL:PT1H
BEGIN:VTIMEZONE
TZID:UTC
BEGIN:STANDARD
TZOFFSETFROM:+0000
TZOFFSETTO:+0000
TZNAME:UTC
DTSTART:20250101T000000
END:STANDARD
END:VTIMEZONE
BEGIN:VEVENT
DTSTART;TZID=UTC:20260516T200000
DTEND;TZID=UTC:20260517T000000
DTSTAMP:20260419T143452
CREATED:20260322T233010Z
LAST-MODIFIED:20260322T233010Z
UID:441-1778961600-1778976000@wbband.biz
SUMMARY:Shannon's Place
DESCRIPTION:
URL:https://wbband.biz/event/shannons-place/
LOCATION:Shannon’s Place\, 300 Shartom Drive\, Augusta\, Georgia\, 30907
END:VEVENT
END:VCALENDAR